BEGIN:VCALENDAR
PRODID:-//eluceo/ical//2.0/EN
VERSION:2.0
CALSCALE:GREGORIAN
BEGIN:VEVENT
UID:c018502c8a69b61b15f39ee2b2caedbd
DTSTAMP:20260423T162833Z
SUMMARY:AA Make Your Own Mezuzah
DESCRIPTION:Jewish Federation of Central Massachusetts\nCalendar\nhttps://j
 ewishcentralmass.org/calendar/aa-make-your-own-mezuzah\n\nAA Make Your Own
  Mezuzah\n\n5:30 pm
DTSTART;TZID=America/New_York:20240210T173000
DTEND;TZID=America/New_York:20240210T193000
END:VEVENT
END:VCALENDAR
