BEGIN:VCALENDAR
PRODID:-//eluceo/ical//2.0/EN
VERSION:2.0
CALSCALE:GREGORIAN
BEGIN:VEVENT
UID:0fc01df0f64944b57057e3443e053a28
DTSTAMP:20260423T033430Z
SUMMARY:AA JWV Service and Potluck
DESCRIPTION:Jewish Federation of Central Massachusetts\nCalendar\nhttps://j
 ewishcentralmass.org/calendar/aa-jwv-service-and-potluck\n\nAA JWV Service
  and Potluck\n\n6:00 pm
DTSTART;TZID=America/New_York:20231110T180000
DTEND;TZID=America/New_York:20231110T200000
END:VEVENT
END:VCALENDAR
