BEGIN:VCALENDAR
PRODID:-//eluceo/ical//2.0/EN
VERSION:2.0
CALSCALE:GREGORIAN
BEGIN:VEVENT
UID:482a0b540ec085a0dd2a26b3ccb5a157
DTSTAMP:20260423T014741Z
SUMMARY:AA High Holy Day Tot Shabbat
DESCRIPTION:Jewish Federation of Central Massachusetts\nCalendar\nhttps://j
 ewishcentralmass.org/calendar/aa-high-holy-day-tot-shabbat\n\nAA High Holy
  Day Tot Shabbat \n\n11:00 am
DTSTART;TZID=America/New_York:20230916T110000
DTEND;TZID=America/New_York:20230916T120000
END:VEVENT
END:VCALENDAR
