BEGIN:VCALENDAR
PRODID:-//eluceo/ical//2.0/EN
VERSION:2.0
CALSCALE:GREGORIAN
BEGIN:VEVENT
UID:d4b7aa73336873d3a19e506da438a5bb
DTSTAMP:20260423T194815Z
SUMMARY:AA Hanukkah Event 2023
DESCRIPTION:Jewish Federation of Central Massachusetts\nCalendar\nhttps://j
 ewishcentralmass.org/calendar/aa-hanukkah-event-2023\n\nAA Hanukkah Event\
 n\n10:00 am
DTSTART;TZID=America/New_York:20231210T100000
DTEND;TZID=America/New_York:20231210T120000
END:VEVENT
END:VCALENDAR
