BEGIN:VCALENDAR
PRODID:-//eluceo/ical//2.0/EN
VERSION:2.0
CALSCALE:GREGORIAN
BEGIN:VEVENT
UID:636d9b3751b3aed4c4fd61c3fb0e92f8
DTSTAMP:20260422T162244Z
SUMMARY:AA Hangout Day
DESCRIPTION:Jewish Federation of Central Massachusetts\nCalendar\nhttps://j
 ewishcentralmass.org/calendar/aa-hangout-day\n\nAA Hangout Day\n\nTBD
DTSTART;TZID=America/New_York:20240219T120000
DTEND;TZID=America/New_York:20240219T140000
END:VEVENT
END:VCALENDAR
