BEGIN:VCALENDAR
PRODID:-//eluceo/ical//2.0/EN
VERSION:2.0
CALSCALE:GREGORIAN
BEGIN:VEVENT
UID:8190a264f4867d073c36ad8750bc8612
DTSTAMP:20260420T130058Z
SUMMARY:AA Community Seder 2024
DESCRIPTION:Jewish Federation of Central Massachusetts\nCalendar\nhttps://j
 ewishcentralmass.org/calendar/aa-community-seder-2024\n\nAA Community Sede
 r\n\n6:00 pm
DTSTART;TZID=America/New_York:20240423T180000
DTEND;TZID=America/New_York:20240423T200000
END:VEVENT
END:VCALENDAR
