BEGIN:VCALENDAR
PRODID:-//eluceo/ical//2.0/EN
VERSION:2.0
CALSCALE:GREGORIAN
BEGIN:VEVENT
UID:c03126f468b4fa7b947aa49d3272b695
DTSTAMP:20260422T124147Z
SUMMARY:AA Board Meeting 2023-2024 Dec
DESCRIPTION:Jewish Federation of Central Massachusetts\nCalendar\nhttps://j
 ewishcentralmass.org/calendar/aa-board-meeting-2023-2024-dec\n\nAA Board M
 eeting\n\n7:00 pm
DTSTART;TZID=America/New_York:20231211T190000
DTEND;TZID=America/New_York:20231211T210000
END:VEVENT
END:VCALENDAR
