BEGIN:VCALENDAR
PRODID:-//eluceo/ical//2.0/EN
VERSION:2.0
CALSCALE:GREGORIAN
BEGIN:VEVENT
UID:ed3b333973d167e2d205fe3eb652aa1d
DTSTAMP:20260422T185908Z
SUMMARY:AA Board Meeting 2023-2024
DESCRIPTION:Jewish Federation of Central Massachusetts\nCalendar\nhttps://j
 ewishcentralmass.org/calendar/aa-board-meeting-2023-2024\n\nAA Board Meeti
 ng \n\n7:00 pm
DTSTART;TZID=America/New_York:20230911T190000
DTEND;TZID=America/New_York:20230911T210000
END:VEVENT
END:VCALENDAR
