BEGIN:VCALENDAR
PRODID:-//eluceo/ical//2.0/EN
VERSION:2.0
CALSCALE:GREGORIAN
BEGIN:VEVENT
UID:14f8dd0e1aa11d2bcec3f77f51874d76
DTSTAMP:20260422T235027Z
SUMMARY:AA Annual Meeting 2024
DESCRIPTION:Jewish Federation of Central Massachusetts\nCalendar\nhttps://j
 ewishcentralmass.org/calendar/aa-annual-meeting-2024\n\nAA Annual Meeting\
 n\n9:30 am
DTSTART;TZID=America/New_York:20240609T093000
DTEND;TZID=America/New_York:20240609T113000
END:VEVENT
END:VCALENDAR
