BEGIN:VCALENDAR
PRODID:-//eluceo/ical//2.0/EN
VERSION:2.0
CALSCALE:GREGORIAN
BEGIN:VEVENT
UID:a74d250dc2e7fb907b8351f15a3164b9
DTSTAMP:20260422T040651Z
SUMMARY:A Night in Havana at Congregation B'nai Shalom
DESCRIPTION:Jewish Federation of Central Massachusetts\nCalendar\nhttps://j
 ewishcentralmass.org/calendar/a-night-in-havana-at-congregation-bnai-shalo
 m\n\nA Night in Havana at Congregation B'nai Shalom\n\nSaturday\, November
  7. 
DTSTART;TZID=America/New_York:20201107T170000
DTEND;TZID=America/New_York:20201107T210000
END:VEVENT
END:VCALENDAR
