BEGIN:VCALENDAR
PRODID:-//eluceo/ical//2.0/EN
VERSION:2.0
CALSCALE:GREGORIAN
BEGIN:VEVENT
UID:645c8796b65238f1c724c7dd0d63ad59
DTSTAMP:20260422T023604Z
SUMMARY:Shaarai Torah West BBQ
DESCRIPTION:Jewish Federation of Central Massachusetts\nCalendar\nhttps://j
 ewishcentralmass.org/calendar/STW-bbq\n\nShaarai Torah West BBQ
DTSTART;TZID=America/New_York:20150825T170000
DTEND;TZID=America/New_York:20150825T190000
END:VEVENT
END:VCALENDAR
