BEGIN:VCALENDAR
PRODID:-//eluceo/ical//2.0/EN
VERSION:2.0
CALSCALE:GREGORIAN
BEGIN:VEVENT
UID:22df855498886616ae58e21ccc71ecf3
DTSTAMP:20260424T002146Z
SUMMARY:Hadassah Donor Dinner
DESCRIPTION:Jewish Federation of Central Massachusetts\nCalendar\nhttps://j
 ewishcentralmass.org/calendar/HadassahDonorDinner\n\nHadassah Donor Event
DTSTART;TZID=America/New_York:20180422T130000
DTEND;TZID=America/New_York:20180422T150000
END:VEVENT
END:VCALENDAR
