BEGIN:VCALENDAR
PRODID:-//eluceo/ical//2.0/EN
VERSION:2.0
CALSCALE:GREGORIAN
BEGIN:VEVENT
UID:228eb39e82b755cedd8087e552dd1ca2
DTSTAMP:20260423T031952Z
SUMMARY:Congregation B'nai Shalom Board Meeting
DESCRIPTION:Jewish Federation of Central Massachusetts\nCalendar\nhttps://j
 ewishcentralmass.org/calendar/CBS-Bd-mtg\n\nCBS Board meeting
DTSTART;TZID=America/New_York:20151028T193000
DTEND;TZID=America/New_York:20151028T210000
END:VEVENT
END:VCALENDAR
