BEGIN:VCALENDAR
PRODID:-//eluceo/ical//2.0/EN
VERSION:2.0
CALSCALE:GREGORIAN
BEGIN:VEVENT
UID:5033fc4bcf381e3d3c5d2abda00c3344
DTSTAMP:20260423T191710Z
SUMMARY:92nd Street Y Live featuring Al Gore
DESCRIPTION:Jewish Federation of Central Massachusetts\nCalendar\nhttps://j
 ewishcentralmass.org/calendar/92nd-street-y-live-featuring-al-gore\n\n92nd
  Street Y Live
DTSTART;TZID=America/New_York:20130205T200000
DTEND;TZID=America/New_York:20130205T203000
END:VEVENT
END:VCALENDAR
