BEGIN:VCALENDAR
PRODID:-//eluceo/ical//2.0/EN
VERSION:2.0
CALSCALE:GREGORIAN
BEGIN:VEVENT
UID:c5e57fac3916412fa5b1f3d57e766f58
DTSTAMP:20260425T000000Z
SUMMARY:92nd Street Y Broadcast at BI
DESCRIPTION:Jewish Federation of Central Massachusetts\nCalendar\nhttps://j
 ewishcentralmass.org/calendar/92nd-street-y-broadcast-at-bi2\n\n92nd Stree
 t Y Broadcast at BI
DTSTART;TZID=America/New_York:20160410T170000
DTEND;TZID=America/New_York:20160410T190000
END:VEVENT
END:VCALENDAR
