BEGIN:VCALENDAR
PRODID:-//eluceo/ical//2.0/EN
VERSION:2.0
CALSCALE:GREGORIAN
BEGIN:VEVENT
UID:4192da1f018ad94d565774ec6a9e62f3
DTSTAMP:20260424T002842Z
SUMMARY:92nd Street Y Broadcast at BI
DESCRIPTION:Jewish Federation of Central Massachusetts\nCalendar\nhttps://j
 ewishcentralmass.org/calendar/92nd-street-y-broadcast-at-bi\n\n92nd Street
  Y Broadcast at BI
DTSTART;TZID=America/New_York:20160322T200000
DTEND;TZID=America/New_York:20160322T220000
END:VEVENT
END:VCALENDAR
