BEGIN:VCALENDAR
PRODID:-//eluceo/ical//2.0/EN
VERSION:2.0
CALSCALE:GREGORIAN
BEGIN:VEVENT
UID:036f12235a9ed7f4aceb7a969a3e3417
DTSTAMP:20260424T060131Z
SUMMARY:JCC Author Series presents Alyson Richman & Jenna Blum
DESCRIPTION:Jewish Federation of Central Massachusetts\nCalendar\nhttps://j
 ewishcentralmass.org/calendar/44444\n\nAlyson Richman and Jenna Blum
DTSTART;TZID=America/New_York:20141104T190000
DTEND;TZID=America/New_York:20141104T210000
END:VEVENT
END:VCALENDAR
