BEGIN:VCALENDAR
PRODID:-//eluceo/ical//2.0/EN
VERSION:2.0
CALSCALE:GREGORIAN
BEGIN:VEVENT
UID:f8d1bf8d59a6e92bd0dc2af885d45357
DTSTAMP:20260420T173043Z
SUMMARY:3 Steps Detect BRCA Event
DESCRIPTION:Jewish Federation of Central Massachusetts\nCalendar\nhttps://j
 ewishcentralmass.org/calendar/3-steps-detect-brca-event\n\nFebruary 4\, Je
 wish Federation in partnership with 15-40:  3 Steps Detect\, A Lifesaving
  Tool to Catch Cancer Early.  6:30 pm\, Worcester JCC
DTSTART;TZID=America/New_York:20200204T183000
DTEND;TZID=America/New_York:20200204T203000
END:VEVENT
END:VCALENDAR
