BEGIN:VCALENDAR
PRODID:-//eluceo/ical//2.0/EN
VERSION:2.0
CALSCALE:GREGORIAN
BEGIN:VEVENT
UID:5e54c6d611d07a3737e34cacf5b35c19
DTSTAMP:20260421T202945Z
SUMMARY:Beth Tikvah Woman's Shabbat Service
DESCRIPTION:Jewish Federation of Central Massachusetts\nCalendar\nhttps://j
 ewishcentralmass.org/calendar/20cal810\n\nBeth Tikvah Woman's Shabbat Serv
 ice
DTSTART;TZID=America/New_York:20200307T093000
DTEND;TZID=America/New_York:20200307T235959
END:VEVENT
END:VCALENDAR
