BEGIN:VCALENDAR
PRODID:-//eluceo/ical//2.0/EN
VERSION:2.0
CALSCALE:GREGORIAN
BEGIN:VEVENT
UID:4a101a9fc85578335765bfbaed0decc4
DTSTAMP:20260422T124748Z
SUMMARY:Labor Day
DESCRIPTION:Jewish Federation of Central Massachusetts\nCalendar\nhttps://j
 ewishcentralmass.org/calendar/20cal809\n\nLabor Day
DTSTART;TZID=America/New_York:20190902T000100
DTEND;TZID=America/New_York:20190902T235959
END:VEVENT
END:VCALENDAR
