BEGIN:VCALENDAR
PRODID:-//eluceo/ical//2.0/EN
VERSION:2.0
CALSCALE:GREGORIAN
BEGIN:VEVENT
UID:489fa9592337b0496aa44d7f71b6521e
DTSTAMP:20260424T013417Z
SUMMARY:Temple Emanuel Sinai Adult B'nai Mitzvah Service
DESCRIPTION:Jewish Federation of Central Massachusetts\nCalendar\nhttps://j
 ewishcentralmass.org/calendar/20cal806\n\nTemple Emanuel Sinai Adult B'nai
  Mitzvah Service
DTSTART;TZID=America/New_York:20200619T193000
DTEND;TZID=America/New_York:20200619T235959
END:VEVENT
END:VCALENDAR
