BEGIN:VCALENDAR
PRODID:-//eluceo/ical//2.0/EN
VERSION:2.0
CALSCALE:GREGORIAN
BEGIN:VEVENT
UID:bd2c2f9728dacf372b922d5a38ace243
DTSTAMP:20260424T112931Z
SUMMARY:Jewish Healthcare Center Annual Meeting
DESCRIPTION:Jewish Federation of Central Massachusetts\nCalendar\nhttps://j
 ewishcentralmass.org/calendar/20cal805\n\nJewish Healthcare Center Annual 
 Meeting
DTSTART;TZID=America/New_York:20200618T170000
DTEND;TZID=America/New_York:20200618T200000
END:VEVENT
END:VCALENDAR
