BEGIN:VCALENDAR
PRODID:-//eluceo/ical//2.0/EN
VERSION:2.0
CALSCALE:GREGORIAN
BEGIN:VEVENT
UID:ebf6ea7c122880b9859e4653ef2b4e59
DTSTAMP:20260422T184651Z
SUMMARY:Jewish Community Center Annual Meeting
DESCRIPTION:Jewish Federation of Central Massachusetts\nCalendar\nhttps://j
 ewishcentralmass.org/calendar/20cal803\n\nJewish Community Center Annual M
 eeting
DTSTART;TZID=America/New_York:20200611T180000
DTEND;TZID=America/New_York:20200611T235959
END:VEVENT
END:VCALENDAR
