BEGIN:VCALENDAR
PRODID:-//eluceo/ical//2.0/EN
VERSION:2.0
CALSCALE:GREGORIAN
BEGIN:VEVENT
UID:c46a0302763a76ae53998ad7b8499ebc
DTSTAMP:20260423T095245Z
SUMMARY:Congregation Beth Israel Annual Meeting
DESCRIPTION:Jewish Federation of Central Massachusetts\nCalendar\nhttps://j
 ewishcentralmass.org/calendar/20cal802\n\nCongregation Beth Israel Annual 
 Meeting
DTSTART;TZID=America/New_York:20200610T193000
DTEND;TZID=America/New_York:20200610T235959
END:VEVENT
END:VCALENDAR
