BEGIN:VCALENDAR
PRODID:-//eluceo/ical//2.0/EN
VERSION:2.0
CALSCALE:GREGORIAN
BEGIN:VEVENT
UID:831a24660de1970a02bf74b06f59ee55
DTSTAMP:20260423T142945Z
SUMMARY:Temple Emanuel Sinai Board Meeting
DESCRIPTION:Jewish Federation of Central Massachusetts\nCalendar\nhttps://j
 ewishcentralmass.org/calendar/20cal800\n\nTemple Emanuel Sinai Board Meeti
 ng
DTSTART;TZID=America/New_York:20200608T193000
DTEND;TZID=America/New_York:20200608T235959
END:VEVENT
END:VCALENDAR
