BEGIN:VCALENDAR
PRODID:-//eluceo/ical//2.0/EN
VERSION:2.0
CALSCALE:GREGORIAN
BEGIN:VEVENT
UID:cdf16e278986eba7c03f3692c8c45e7b
DTSTAMP:20260421T011704Z
SUMMARY:Shir Joy Concert
DESCRIPTION:Jewish Federation of Central Massachusetts\nCalendar\nhttps://j
 ewishcentralmass.org/calendar/20cal799\n\nShir Joy Concert
DTSTART;TZID=America/New_York:20200607T190000
DTEND;TZID=America/New_York:20200607T235959
END:VEVENT
END:VCALENDAR
