BEGIN:VCALENDAR
PRODID:-//eluceo/ical//2.0/EN
VERSION:2.0
CALSCALE:GREGORIAN
BEGIN:VEVENT
UID:334e725e63fd85f39f000d3b3732cc27
DTSTAMP:20260423T100507Z
SUMMARY:Temple Emanuel Sinai Musician in Residence Weekend Concert
DESCRIPTION:Jewish Federation of Central Massachusetts\nCalendar\nhttps://j
 ewishcentralmass.org/calendar/20cal797\n\nTemple Emanuel Sinai Musician in
  Residence Weekend Concert
DTSTART;TZID=America/New_York:20200502T193000
DTEND;TZID=America/New_York:20200502T235959
END:VEVENT
END:VCALENDAR
