BEGIN:VCALENDAR
PRODID:-//eluceo/ical//2.0/EN
VERSION:2.0
CALSCALE:GREGORIAN
BEGIN:VEVENT
UID:3a990adc223faa76a811eab8919e1699
DTSTAMP:20260424T054602Z
SUMMARY:Temple Emanuel Sinai Musician in Residence Weekend
DESCRIPTION:Jewish Federation of Central Massachusetts\nCalendar\nhttps://j
 ewishcentralmass.org/calendar/20cal796\n\nTemple Emanuel Sinai Musician in
  Residence Weekend
DTSTART;TZID=America/New_York:20200501T193000
DTEND;TZID=America/New_York:20200503T235959
END:VEVENT
END:VCALENDAR
