BEGIN:VCALENDAR
PRODID:-//eluceo/ical//2.0/EN
VERSION:2.0
CALSCALE:GREGORIAN
BEGIN:VEVENT
UID:dbeea87d33b90365d71e2d9254b2be2a
DTSTAMP:20260423T011309Z
SUMMARY:Temple Emanuel Sinai Lifelong Learning Workshop
DESCRIPTION:Jewish Federation of Central Massachusetts\nCalendar\nhttps://j
 ewishcentralmass.org/calendar/20cal794\n\nTemple Emanuel Sinai Lifelong Le
 arning Workshop
DTSTART;TZID=America/New_York:20200531T093000
DTEND;TZID=America/New_York:20200531T235959
END:VEVENT
END:VCALENDAR
