BEGIN:VCALENDAR
PRODID:-//eluceo/ical//2.0/EN
VERSION:2.0
CALSCALE:GREGORIAN
BEGIN:VEVENT
UID:f95c5c51cd673e487164390af2686592
DTSTAMP:20260423T032405Z
SUMMARY:Beth Tikvah Annual Meeting
DESCRIPTION:Jewish Federation of Central Massachusetts\nCalendar\nhttps://j
 ewishcentralmass.org/calendar/20cal793\n\nBeth Tikvah Annual Meeting
DTSTART;TZID=America/New_York:20200531T090000
DTEND;TZID=America/New_York:20200531T235959
END:VEVENT
END:VCALENDAR
