BEGIN:VCALENDAR
PRODID:-//eluceo/ical//2.0/EN
VERSION:2.0
CALSCALE:GREGORIAN
BEGIN:VEVENT
UID:6143ee85e0ff3e927c50a9f3d33e31f9
DTSTAMP:20260423T015708Z
SUMMARY:Shavuot
DESCRIPTION:Jewish Federation of Central Massachusetts\nCalendar\nhttps://j
 ewishcentralmass.org/calendar/20cal792\n\nShavuot
DTSTART;TZID=America/New_York:20200529T000100
DTEND;TZID=America/New_York:20200530T235959
END:VEVENT
END:VCALENDAR
