BEGIN:VCALENDAR
PRODID:-//eluceo/ical//2.0/EN
VERSION:2.0
CALSCALE:GREGORIAN
BEGIN:VEVENT
UID:8bcc05f248511e513b4b51e26ad1b604
DTSTAMP:20260424T095513Z
SUMMARY:Congregation Beth Israel Board Meeting
DESCRIPTION:Jewish Federation of Central Massachusetts\nCalendar\nhttps://j
 ewishcentralmass.org/calendar/20cal790\n\nCongregation Beth Israel Board M
 eeting
DTSTART;TZID=America/New_York:20200521T193000
DTEND;TZID=America/New_York:20200521T235959
END:VEVENT
END:VCALENDAR
