BEGIN:VCALENDAR
PRODID:-//eluceo/ical//2.0/EN
VERSION:2.0
CALSCALE:GREGORIAN
BEGIN:VEVENT
UID:94896214e7b9daabd44ca1b440d6c037
DTSTAMP:20260423T022756Z
SUMMARY:Jewish Community Center Board Meeting
DESCRIPTION:Jewish Federation of Central Massachusetts\nCalendar\nhttps://j
 ewishcentralmass.org/calendar/20cal789\n\nJewish Community Center Board Me
 eting
DTSTART;TZID=America/New_York:20200520T193000
DTEND;TZID=America/New_York:20200520T235959
END:VEVENT
END:VCALENDAR
