BEGIN:VCALENDAR
PRODID:-//eluceo/ical//2.0/EN
VERSION:2.0
CALSCALE:GREGORIAN
BEGIN:VEVENT
UID:801bafc64e479d4691367bf309645900
DTSTAMP:20260423T071544Z
SUMMARY:Jewish Healthcare Center Board Meeting
DESCRIPTION:Jewish Federation of Central Massachusetts\nCalendar\nhttps://j
 ewishcentralmass.org/calendar/20cal788\n\nJewish Healthcare Center Board M
 eeting
DTSTART;TZID=America/New_York:20200518T193000
DTEND;TZID=America/New_York:20200518T235959
END:VEVENT
END:VCALENDAR
