BEGIN:VCALENDAR
PRODID:-//eluceo/ical//2.0/EN
VERSION:2.0
CALSCALE:GREGORIAN
BEGIN:VEVENT
UID:c1fb76be3b3f817d7eb6f7f0547820c4
DTSTAMP:20260423T015758Z
SUMMARY:Congregation B'nai Shalom Last Day of School
DESCRIPTION:Jewish Federation of Central Massachusetts\nCalendar\nhttps://j
 ewishcentralmass.org/calendar/20cal786\n\nCongregation B'nai Shalom Last D
 ay of School
DTSTART;TZID=America/New_York:20200517T090000
DTEND;TZID=America/New_York:20200517T235959
END:VEVENT
END:VCALENDAR
