BEGIN:VCALENDAR
PRODID:-//eluceo/ical//2.0/EN
VERSION:2.0
CALSCALE:GREGORIAN
BEGIN:VEVENT
UID:4250f130947f2481ce818cde7392b22c
DTSTAMP:20260423T143258Z
SUMMARY:Congregation Beth Israel Brotherhood Breakfast
DESCRIPTION:Jewish Federation of Central Massachusetts\nCalendar\nhttps://j
 ewishcentralmass.org/calendar/20cal785\n\nCongregation Beth Israel Brother
 hood Breakfast
DTSTART;TZID=America/New_York:20200517T000000
DTEND;TZID=America/New_York:20200517T235959
END:VEVENT
END:VCALENDAR
