BEGIN:VCALENDAR
PRODID:-//eluceo/ical//2.0/EN
VERSION:2.0
CALSCALE:GREGORIAN
BEGIN:VEVENT
UID:3d611fec258d04ddd4ffe9bfd9dad636
DTSTAMP:20260421T122406Z
SUMMARY:Kehillah Graduation Shabbat at TES
DESCRIPTION:Jewish Federation of Central Massachusetts\nCalendar\nhttps://j
 ewishcentralmass.org/calendar/20cal784\n\nKehillah Graduation Shabbat at T
 ES
DTSTART;TZID=America/New_York:20200515T193000
DTEND;TZID=America/New_York:20200515T235959
END:VEVENT
END:VCALENDAR
