BEGIN:VCALENDAR
PRODID:-//eluceo/ical//2.0/EN
VERSION:2.0
CALSCALE:GREGORIAN
BEGIN:VEVENT
UID:54217f339cacc2484aa840698f4e3971
DTSTAMP:20260422T221518Z
SUMMARY:Jewish Healthcare Center Finance Committee
DESCRIPTION:Jewish Federation of Central Massachusetts\nCalendar\nhttps://j
 ewishcentralmass.org/calendar/20cal782\n\nJewish Healthcare Center Finance
  Committee
DTSTART;TZID=America/New_York:20200512T073000
DTEND;TZID=America/New_York:20200512T235959
END:VEVENT
END:VCALENDAR
