BEGIN:VCALENDAR
PRODID:-//eluceo/ical//2.0/EN
VERSION:2.0
CALSCALE:GREGORIAN
BEGIN:VEVENT
UID:3834e06784ef194aab4cf9cb2e78dde6
DTSTAMP:20260422T090136Z
SUMMARY:Temple Emanuel Sinai Board Meeting
DESCRIPTION:Jewish Federation of Central Massachusetts\nCalendar\nhttps://j
 ewishcentralmass.org/calendar/20cal780\n\nTemple Emanuel Sinai Board Meeti
 ng
DTSTART;TZID=America/New_York:20200511T193000
DTEND;TZID=America/New_York:20200511T235959
END:VEVENT
END:VCALENDAR
