BEGIN:VCALENDAR
PRODID:-//eluceo/ical//2.0/EN
VERSION:2.0
CALSCALE:GREGORIAN
BEGIN:VEVENT
UID:44663be7cdc94b530651d8954679a049
DTSTAMP:20260422T090120Z
SUMMARY:Mother's Day
DESCRIPTION:Jewish Federation of Central Massachusetts\nCalendar\nhttps://j
 ewishcentralmass.org/calendar/20cal779\n\nMother's Day
DTSTART;TZID=America/New_York:20200510T000100
DTEND;TZID=America/New_York:20200510T235959
END:VEVENT
END:VCALENDAR
