BEGIN:VCALENDAR
PRODID:-//eluceo/ical//2.0/EN
VERSION:2.0
CALSCALE:GREGORIAN
BEGIN:VEVENT
UID:9c549dc6da6c06bc5f6b8e3a36cd2d48
DTSTAMP:20260423T155722Z
SUMMARY:Temple Emanuel Sinai Last day of Hebrew School
DESCRIPTION:Jewish Federation of Central Massachusetts\nCalendar\nhttps://j
 ewishcentralmass.org/calendar/20cal778\n\nTemple Emanuel Sinai Last day of
  Hebrew School
DTSTART;TZID=America/New_York:20200509T090000
DTEND;TZID=America/New_York:20200509T235959
END:VEVENT
END:VCALENDAR
