BEGIN:VCALENDAR
PRODID:-//eluceo/ical//2.0/EN
VERSION:2.0
CALSCALE:GREGORIAN
BEGIN:VEVENT
UID:65c1ade3f07cc327ae07fde7005cbd6b
DTSTAMP:20260422T200822Z
SUMMARY:Beth Tikvah Board Meeting
DESCRIPTION:Jewish Federation of Central Massachusetts\nCalendar\nhttps://j
 ewishcentralmass.org/calendar/20cal777\n\nBeth Tikvah Board Meeting
DTSTART;TZID=America/New_York:20200506T190000
DTEND;TZID=America/New_York:20200506T235959
END:VEVENT
END:VCALENDAR
