BEGIN:VCALENDAR
PRODID:-//eluceo/ical//2.0/EN
VERSION:2.0
CALSCALE:GREGORIAN
BEGIN:VEVENT
UID:ac3468ac67b553ddc35172d5866de45a
DTSTAMP:20260422T221132Z
SUMMARY:Temple Emanuel Sinai Brotherhood Shabbat
DESCRIPTION:Jewish Federation of Central Massachusetts\nCalendar\nhttps://j
 ewishcentralmass.org/calendar/20cal775\n\nTemple Emanuel Sinai Brotherhood
  Shabbat
DTSTART;TZID=America/New_York:20200605T193000
DTEND;TZID=America/New_York:20200605T235959
END:VEVENT
END:VCALENDAR
