BEGIN:VCALENDAR
PRODID:-//eluceo/ical//2.0/EN
VERSION:2.0
CALSCALE:GREGORIAN
BEGIN:VEVENT
UID:bc8d9170c0d5e7b60e54f835ab20d8f4
DTSTAMP:20260421T171217Z
SUMMARY:PJ Library/PJOW Program
DESCRIPTION:Jewish Federation of Central Massachusetts\nCalendar\nhttps://j
 ewishcentralmass.org/calendar/20cal773\n\nPJ Library/PJOW Program
DTSTART;TZID=America/New_York:20200503T150000
DTEND;TZID=America/New_York:20200503T235959
END:VEVENT
END:VCALENDAR
