BEGIN:VCALENDAR
PRODID:-//eluceo/ical//2.0/EN
VERSION:2.0
CALSCALE:GREGORIAN
BEGIN:VEVENT
UID:ba365df9788dffd2fc6f29d8417a9409
DTSTAMP:20260422T033548Z
SUMMARY:Temple Emanuel Sinai Event
DESCRIPTION:Jewish Federation of Central Massachusetts\nCalendar\nhttps://j
 ewishcentralmass.org/calendar/20cal772\n\nTemple Emanuel Sinai Event
DTSTART;TZID=America/New_York:20200503T093000
DTEND;TZID=America/New_York:20200503T235959
END:VEVENT
END:VCALENDAR
