BEGIN:VCALENDAR
PRODID:-//eluceo/ical//2.0/EN
VERSION:2.0
CALSCALE:GREGORIAN
BEGIN:VEVENT
UID:ecaede5e44e23089c453baf2c753caeb
DTSTAMP:20260422T223358Z
SUMMARY:Congregation B'nai Shalom Annual Meeting
DESCRIPTION:Jewish Federation of Central Massachusetts\nCalendar\nhttps://j
 ewishcentralmass.org/calendar/20cal771\n\nCongregation B'nai Shalom Annual
  Meeting
DTSTART;TZID=America/New_York:20200503T090000
DTEND;TZID=America/New_York:20200503T235959
END:VEVENT
END:VCALENDAR
