BEGIN:VCALENDAR
PRODID:-//eluceo/ical//2.0/EN
VERSION:2.0
CALSCALE:GREGORIAN
BEGIN:VEVENT
UID:1ae82d4b009609859d8317aedffc7051
DTSTAMP:20260422T123037Z
SUMMARY:Beth Tikvah Last Day of Hebrew School
DESCRIPTION:Jewish Federation of Central Massachusetts\nCalendar\nhttps://j
 ewishcentralmass.org/calendar/20cal770\n\nBeth Tikvah Last Day of Hebrew S
 chool
DTSTART;TZID=America/New_York:20200503T090000
DTEND;TZID=America/New_York:20200503T235959
END:VEVENT
END:VCALENDAR
