BEGIN:VCALENDAR
PRODID:-//eluceo/ical//2.0/EN
VERSION:2.0
CALSCALE:GREGORIAN
BEGIN:VEVENT
UID:bdfdc859cd52d617e04505e499393e78
DTSTAMP:20260422T122721Z
SUMMARY:PJ Pajama Havdalah with CBS & BT
DESCRIPTION:Jewish Federation of Central Massachusetts\nCalendar\nhttps://j
 ewishcentralmass.org/calendar/20cal769\n\nPJ Pajama Havdalah with CBS & BT
DTSTART;TZID=America/New_York:20200502T160000
DTEND;TZID=America/New_York:20200502T235959
END:VEVENT
END:VCALENDAR
