BEGIN:VCALENDAR
PRODID:-//eluceo/ical//2.0/EN
VERSION:2.0
CALSCALE:GREGORIAN
BEGIN:VEVENT
UID:5f6f3a8c265a46c4a38d22e72ee399d8
DTSTAMP:20260422T154505Z
SUMMARY:Yom Hazikaron
DESCRIPTION:Jewish Federation of Central Massachusetts\nCalendar\nhttps://j
 ewishcentralmass.org/calendar/20cal766\n\nYom Hazikaron
DTSTART;TZID=America/New_York:20200428T000100
DTEND;TZID=America/New_York:20200428T235959
END:VEVENT
END:VCALENDAR
