BEGIN:VCALENDAR
PRODID:-//eluceo/ical//2.0/EN
VERSION:2.0
CALSCALE:GREGORIAN
BEGIN:VEVENT
UID:8f490c46c66e8c4e217174517cfda25f
DTSTAMP:20260423T071326Z
SUMMARY:Jewish Community Center Finance Committee
DESCRIPTION:Jewish Federation of Central Massachusetts\nCalendar\nhttps://j
 ewishcentralmass.org/calendar/20cal765\n\nJewish Community Center Finance 
 Committee
DTSTART;TZID=America/New_York:20200427T190000
DTEND;TZID=America/New_York:20200427T235959
END:VEVENT
END:VCALENDAR
